BEGIN:VCALENDAR
VERSION:2.0
PRODID:-//Greater Galilee - ECPv6.15.20//NONSGML v1.0//EN
CALSCALE:GREGORIAN
METHOD:PUBLISH
X-WR-CALNAME:Greater Galilee
X-ORIGINAL-URL:https://greatergalilee.com
X-WR-CALDESC:Events for Greater Galilee
REFRESH-INTERVAL;VALUE=DURATION:PT1H
X-Robots-Tag:noindex
X-PUBLISHED-TTL:PT1H
BEGIN:VTIMEZONE
TZID:America/Kentucky/Louisville
BEGIN:DAYLIGHT
TZOFFSETFROM:-0500
TZOFFSETTO:-0400
TZNAME:EDT
DTSTART:20250309T070000
END:DAYLIGHT
BEGIN:STANDARD
TZOFFSETFROM:-0400
TZOFFSETTO:-0500
TZNAME:EST
DTSTART:20251102T060000
END:STANDARD
BEGIN:DAYLIGHT
TZOFFSETFROM:-0500
TZOFFSETTO:-0400
TZNAME:EDT
DTSTART:20260308T070000
END:DAYLIGHT
BEGIN:STANDARD
TZOFFSETFROM:-0400
TZOFFSETTO:-0500
TZNAME:EST
DTSTART:20261101T060000
END:STANDARD
BEGIN:DAYLIGHT
TZOFFSETFROM:-0500
TZOFFSETTO:-0400
TZNAME:EDT
DTSTART:20270314T070000
END:DAYLIGHT
BEGIN:STANDARD
TZOFFSETFROM:-0400
TZOFFSETTO:-0500
TZNAME:EST
DTSTART:20271107T060000
END:STANDARD
END:VTIMEZONE
BEGIN:VEVENT
DTSTART;TZID=America/Kentucky/Louisville:20260601T083000
DTEND;TZID=America/Kentucky/Louisville:20260601T160000
DTSTAMP:20260422T214435
CREATED:20260302T183452Z
LAST-MODIFIED:20260302T183452Z
UID:24142-1780302600-1780329600@greatergalilee.com
SUMMARY:Opening Day GCDC Summer Academy 2026
DESCRIPTION:
URL:https://greatergalilee.com/event/opening-day-gcdc-summer-academy-2026/
LOCATION:Greater Galilee\, 3918 W Broadway\, Louisville\, KY\, 40211\, United States
CATEGORIES:Youth Events
ATTACH;FMTTYPE=image/jpeg:https://greatergalilee.com/wp-content/uploads/2026/03/642493438_2248131602594052_6964542179815759955_n.jpg
END:VEVENT
END:VCALENDAR