BEGIN:VCALENDAR
VERSION:2.0
PRODID:-//Greater Galilee - ECPv6.15.20//NONSGML v1.0//EN
CALSCALE:GREGORIAN
METHOD:PUBLISH
X-WR-CALNAME:Greater Galilee
X-ORIGINAL-URL:https://greatergalilee.com
X-WR-CALDESC:Events for Greater Galilee
REFRESH-INTERVAL;VALUE=DURATION:PT1H
X-Robots-Tag:noindex
X-PUBLISHED-TTL:PT1H
BEGIN:VTIMEZONE
TZID:America/Kentucky/Louisville
BEGIN:DAYLIGHT
TZOFFSETFROM:-0500
TZOFFSETTO:-0400
TZNAME:EDT
DTSTART:20250309T070000
END:DAYLIGHT
BEGIN:STANDARD
TZOFFSETFROM:-0400
TZOFFSETTO:-0500
TZNAME:EST
DTSTART:20251102T060000
END:STANDARD
BEGIN:DAYLIGHT
TZOFFSETFROM:-0500
TZOFFSETTO:-0400
TZNAME:EDT
DTSTART:20260308T070000
END:DAYLIGHT
BEGIN:STANDARD
TZOFFSETFROM:-0400
TZOFFSETTO:-0500
TZNAME:EST
DTSTART:20261101T060000
END:STANDARD
BEGIN:DAYLIGHT
TZOFFSETFROM:-0500
TZOFFSETTO:-0400
TZNAME:EDT
DTSTART:20270314T070000
END:DAYLIGHT
BEGIN:STANDARD
TZOFFSETFROM:-0400
TZOFFSETTO:-0500
TZNAME:EST
DTSTART:20271107T060000
END:STANDARD
END:VTIMEZONE
BEGIN:VEVENT
DTSTART;TZID=America/Kentucky/Louisville:20260120T120000
DTEND;TZID=America/Kentucky/Louisville:20260120T130000
DTSTAMP:20260424T171701
CREATED:20260111T211342Z
LAST-MODIFIED:20260111T213519Z
UID:23810-1768910400-1768914000@greatergalilee.com
SUMMARY:Weekly Prayer Line
DESCRIPTION:Zoom Information: \n720.843.2665 \n209.399.9085 \nPassword:7857390
URL:https://greatergalilee.com/event/weekly-prayer-line-3/
LOCATION:Greater Galilee\, 3918 W Broadway\, Louisville\, KY\, 40211\, United States
CATEGORIES:Church-Wide,Worship Services
ATTACH;FMTTYPE=image/png:https://greatergalilee.com/wp-content/uploads/2025/12/Prayer-Ministry.png
END:VEVENT
BEGIN:VEVENT
DTSTART;TZID=America/Kentucky/Louisville:20260120T190000
DTEND;TZID=America/Kentucky/Louisville:20260120T200000
DTSTAMP:20260424T171701
CREATED:20260111T212838Z
LAST-MODIFIED:20260111T213610Z
UID:23830-1768935600-1768939200@greatergalilee.com
SUMMARY:Weekly Prayer Line
DESCRIPTION:Zoom Information: \n720.843.2665 \n209.399.9085 \nPassword:7857390
URL:https://greatergalilee.com/event/weekly-prayer-line-7/
LOCATION:KY
CATEGORIES:Church-Wide,Worship Services
ATTACH;FMTTYPE=image/png:https://greatergalilee.com/wp-content/uploads/2025/12/Prayer-Ministry.png
END:VEVENT
END:VCALENDAR