BEGIN:VCALENDAR
VERSION:2.0
PRODID:-//Greater Galilee - ECPv6.15.20//NONSGML v1.0//EN
CALSCALE:GREGORIAN
METHOD:PUBLISH
X-ORIGINAL-URL:https://greatergalilee.com
X-WR-CALDESC:Events for Greater Galilee
REFRESH-INTERVAL;VALUE=DURATION:PT1H
X-Robots-Tag:noindex
X-PUBLISHED-TTL:PT1H
BEGIN:VTIMEZONE
TZID:America/Kentucky/Louisville
BEGIN:DAYLIGHT
TZOFFSETFROM:-0500
TZOFFSETTO:-0400
TZNAME:EDT
DTSTART:20250309T070000
END:DAYLIGHT
BEGIN:STANDARD
TZOFFSETFROM:-0400
TZOFFSETTO:-0500
TZNAME:EST
DTSTART:20251102T060000
END:STANDARD
BEGIN:DAYLIGHT
TZOFFSETFROM:-0500
TZOFFSETTO:-0400
TZNAME:EDT
DTSTART:20260308T070000
END:DAYLIGHT
BEGIN:STANDARD
TZOFFSETFROM:-0400
TZOFFSETTO:-0500
TZNAME:EST
DTSTART:20261101T060000
END:STANDARD
BEGIN:DAYLIGHT
TZOFFSETFROM:-0500
TZOFFSETTO:-0400
TZNAME:EDT
DTSTART:20270314T070000
END:DAYLIGHT
BEGIN:STANDARD
TZOFFSETFROM:-0400
TZOFFSETTO:-0500
TZNAME:EST
DTSTART:20271107T060000
END:STANDARD
END:VTIMEZONE
BEGIN:VEVENT
DTSTART;TZID=America/Kentucky/Louisville:20260128T120000
DTEND;TZID=America/Kentucky/Louisville:20260128T130000
DTSTAMP:20260424T212213
CREATED:20260111T212428Z
LAST-MODIFIED:20260111T214548Z
UID:23824-1769601600-1769605200@greatergalilee.com
SUMMARY:Power Lunch in the Word
DESCRIPTION:
URL:https://greatergalilee.com/event/power-lunch-in-the-word-3/
LOCATION:Greater Galilee\, 3918 W Broadway\, Louisville\, KY\, 40211\, United States
CATEGORIES:Church-Wide,Worship Services
ATTACH;FMTTYPE=image/png:https://greatergalilee.com/wp-content/uploads/2025/12/BibleStudy-noon-7pm.png
END:VEVENT
BEGIN:VEVENT
DTSTART;TZID=America/Kentucky/Louisville:20260128T190000
DTEND;TZID=America/Kentucky/Louisville:20260128T200000
DTSTAMP:20260424T212213
CREATED:20260111T213916Z
LAST-MODIFIED:20260111T213916Z
UID:23839-1769626800-1769630400@greatergalilee.com
SUMMARY:Evening Encounter with God
DESCRIPTION:
URL:https://greatergalilee.com/event/evening-encounter-with-god-3/
LOCATION:Greater Galilee\, 3918 W Broadway\, Louisville\, KY\, 40211\, United States
CATEGORIES:Church-Wide,Worship Services
ATTACH;FMTTYPE=image/png:https://greatergalilee.com/wp-content/uploads/2025/12/BibleStudy-noon-7pm.png
END:VEVENT
BEGIN:VEVENT
DTSTART;TZID=America/Kentucky/Louisville:20260401T190000
DTEND;TZID=America/Kentucky/Louisville:20260401T190000
DTSTAMP:20260424T212213
CREATED:20260302T161330Z
LAST-MODIFIED:20260302T161330Z
UID:24078-1775070000-1775070000@greatergalilee.com
SUMMARY:Evening Encounter with God
DESCRIPTION:
URL:https://greatergalilee.com/event/evening-encounter-with-god-9/
LOCATION:Greater Galilee\, 3918 W Broadway\, Louisville\, KY\, 40211\, United States
CATEGORIES:Church-Wide,Worship Services
ATTACH;FMTTYPE=image/png:https://greatergalilee.com/wp-content/uploads/2025/12/BibleStudy-noon-7pm.png
END:VEVENT
END:VCALENDAR