BEGIN:VCALENDAR
VERSION:2.0
PRODID:-//Greater Galilee - ECPv6.15.20//NONSGML v1.0//EN
CALSCALE:GREGORIAN
METHOD:PUBLISH
X-ORIGINAL-URL:https://greatergalilee.com
X-WR-CALDESC:Events for Greater Galilee
REFRESH-INTERVAL;VALUE=DURATION:PT1H
X-Robots-Tag:noindex
X-PUBLISHED-TTL:PT1H
BEGIN:VTIMEZONE
TZID:America/Kentucky/Louisville
BEGIN:DAYLIGHT
TZOFFSETFROM:-0500
TZOFFSETTO:-0400
TZNAME:EDT
DTSTART:20250309T070000
END:DAYLIGHT
BEGIN:STANDARD
TZOFFSETFROM:-0400
TZOFFSETTO:-0500
TZNAME:EST
DTSTART:20251102T060000
END:STANDARD
BEGIN:DAYLIGHT
TZOFFSETFROM:-0500
TZOFFSETTO:-0400
TZNAME:EDT
DTSTART:20260308T070000
END:DAYLIGHT
BEGIN:STANDARD
TZOFFSETFROM:-0400
TZOFFSETTO:-0500
TZNAME:EST
DTSTART:20261101T060000
END:STANDARD
BEGIN:DAYLIGHT
TZOFFSETFROM:-0500
TZOFFSETTO:-0400
TZNAME:EDT
DTSTART:20270314T070000
END:DAYLIGHT
BEGIN:STANDARD
TZOFFSETFROM:-0400
TZOFFSETTO:-0500
TZNAME:EST
DTSTART:20271107T060000
END:STANDARD
END:VTIMEZONE
BEGIN:VEVENT
DTSTART;TZID=America/Kentucky/Louisville:20260113T190000
DTEND;TZID=America/Kentucky/Louisville:20260113T200000
DTSTAMP:20260425T104646
CREATED:20260111T204648Z
LAST-MODIFIED:20260111T205848Z
UID:23801-1768330800-1768334400@greatergalilee.com
SUMMARY:Weekly Prayer Line
DESCRIPTION:Zoom information: \n720.843.2665 \n209.399.9085 \nPasscode: 7857390
URL:https://greatergalilee.com/event/weekly-prayer-line-2/
LOCATION:Greater Galilee\, 3918 W Broadway\, Louisville\, KY\, 40211\, United States
CATEGORIES:Church-Wide,Worship Services
ATTACH;FMTTYPE=image/png:https://greatergalilee.com/wp-content/uploads/2025/12/Prayer-Ministry.png
END:VEVENT
BEGIN:VEVENT
DTSTART;TZID=America/Kentucky/Louisville:20260114T120000
DTEND;TZID=America/Kentucky/Louisville:20260114T130000
DTSTAMP:20260425T104646
CREATED:20260111T203628Z
LAST-MODIFIED:20260111T203628Z
UID:23792-1768392000-1768395600@greatergalilee.com
SUMMARY:Power Lunch in the Word
DESCRIPTION:
URL:https://greatergalilee.com/event/power-lunch-in-the-word/
LOCATION:Greater Galilee\, 3918 W Broadway\, Louisville\, KY\, 40211\, United States
CATEGORIES:Church-Wide,Worship Services
ATTACH;FMTTYPE=image/png:https://greatergalilee.com/wp-content/uploads/2025/12/BibleStudy-noon-7pm.png
END:VEVENT
BEGIN:VEVENT
DTSTART;TZID=America/Kentucky/Louisville:20260114T190000
DTEND;TZID=America/Kentucky/Louisville:20260114T200000
DTSTAMP:20260425T104646
CREATED:20260111T203400Z
LAST-MODIFIED:20260111T203400Z
UID:23788-1768417200-1768420800@greatergalilee.com
SUMMARY:Evening Encounter with God
DESCRIPTION:
URL:https://greatergalilee.com/event/evening-encounter-with-god/
LOCATION:Greater Galilee\, 3918 W Broadway\, Louisville\, KY\, 40211\, United States
CATEGORIES:Church-Wide,Worship Services
ATTACH;FMTTYPE=image/png:https://greatergalilee.com/wp-content/uploads/2025/12/BibleStudy-noon-7pm.png
END:VEVENT
BEGIN:VEVENT
DTSTART;TZID=America/Kentucky/Louisville:20260118T083000
DTEND;TZID=America/Kentucky/Louisville:20260118T093000
DTSTAMP:20260425T104646
CREATED:20260111T205525Z
LAST-MODIFIED:20260111T213105Z
UID:23804-1768725000-1768728600@greatergalilee.com
SUMMARY:Welcome to Service
DESCRIPTION:
URL:https://greatergalilee.com/event/welcome-to-service/
LOCATION:Greater Galilee\, 3918 W Broadway\, Louisville\, KY\, 40211\, United States
CATEGORIES:Church-Wide,Worship Services
ATTACH;FMTTYPE=image/jpeg:https://greatergalilee.com/wp-content/uploads/2025/12/church-Worship1.jpg
END:VEVENT
BEGIN:VEVENT
DTSTART;TZID=America/Kentucky/Louisville:20260118T094500
DTEND;TZID=America/Kentucky/Louisville:20260118T103000
DTSTAMP:20260425T104646
CREATED:20260111T203843Z
LAST-MODIFIED:20260111T203908Z
UID:23795-1768729500-1768732200@greatergalilee.com
SUMMARY:Church School
DESCRIPTION:
URL:https://greatergalilee.com/event/church-school/
LOCATION:Greater Galilee\, 3918 W Broadway\, Louisville\, KY\, 40211\, United States
CATEGORIES:Church-Wide,Worship Services
ATTACH;FMTTYPE=image/png:https://greatergalilee.com/wp-content/uploads/2025/12/Church-School.png
END:VEVENT
BEGIN:VEVENT
DTSTART;TZID=America/Kentucky/Louisville:20260118T103000
DTEND;TZID=America/Kentucky/Louisville:20260118T113000
DTSTAMP:20260425T104646
CREATED:20260111T205657Z
LAST-MODIFIED:20260111T205657Z
UID:23807-1768732200-1768735800@greatergalilee.com
SUMMARY:Welcome to Service
DESCRIPTION:
URL:https://greatergalilee.com/event/welcome-to-service-2/
LOCATION:Greater Galilee\, 3918 W Broadway\, Louisville\, KY\, 40211\, United States
CATEGORIES:Church-Wide,Worship Services
ATTACH;FMTTYPE=image/jpeg:https://greatergalilee.com/wp-content/uploads/2025/12/church-Worship1.jpg
END:VEVENT
BEGIN:VEVENT
DTSTART;TZID=America/Kentucky/Louisville:20260120T120000
DTEND;TZID=America/Kentucky/Louisville:20260120T130000
DTSTAMP:20260425T104646
CREATED:20260111T211342Z
LAST-MODIFIED:20260111T213519Z
UID:23810-1768910400-1768914000@greatergalilee.com
SUMMARY:Weekly Prayer Line
DESCRIPTION:Zoom Information: \n720.843.2665 \n209.399.9085 \nPassword:7857390
URL:https://greatergalilee.com/event/weekly-prayer-line-3/
LOCATION:Greater Galilee\, 3918 W Broadway\, Louisville\, KY\, 40211\, United States
CATEGORIES:Church-Wide,Worship Services
ATTACH;FMTTYPE=image/png:https://greatergalilee.com/wp-content/uploads/2025/12/Prayer-Ministry.png
END:VEVENT
BEGIN:VEVENT
DTSTART;TZID=America/Kentucky/Louisville:20260120T190000
DTEND;TZID=America/Kentucky/Louisville:20260120T200000
DTSTAMP:20260425T104646
CREATED:20260111T212838Z
LAST-MODIFIED:20260111T213610Z
UID:23830-1768935600-1768939200@greatergalilee.com
SUMMARY:Weekly Prayer Line
DESCRIPTION:Zoom Information: \n720.843.2665 \n209.399.9085 \nPassword:7857390
URL:https://greatergalilee.com/event/weekly-prayer-line-7/
LOCATION:KY
CATEGORIES:Church-Wide,Worship Services
ATTACH;FMTTYPE=image/png:https://greatergalilee.com/wp-content/uploads/2025/12/Prayer-Ministry.png
END:VEVENT
BEGIN:VEVENT
DTSTART;TZID=America/Kentucky/Louisville:20260121T120000
DTEND;TZID=America/Kentucky/Louisville:20260121T130000
DTSTAMP:20260425T104646
CREATED:20260111T212326Z
LAST-MODIFIED:20260111T212326Z
UID:23822-1768996800-1769000400@greatergalilee.com
SUMMARY:Power Lunch in the Word
DESCRIPTION:
URL:https://greatergalilee.com/event/power-lunch-in-the-word-2/
LOCATION:Greater Galilee\, 3918 W Broadway\, Louisville\, KY\, 40211\, United States
CATEGORIES:Church-Wide,Worship Services
ATTACH;FMTTYPE=image/png:https://greatergalilee.com/wp-content/uploads/2025/12/BibleStudy-noon-7pm.png
END:VEVENT
BEGIN:VEVENT
DTSTART;TZID=America/Kentucky/Louisville:20260121T190000
DTEND;TZID=America/Kentucky/Louisville:20260121T200000
DTSTAMP:20260425T104647
CREATED:20260111T214142Z
LAST-MODIFIED:20260111T214142Z
UID:23841-1769022000-1769025600@greatergalilee.com
SUMMARY:Evening Encounter with God
DESCRIPTION:
URL:https://greatergalilee.com/event/evening-encounter-with-god-4/
LOCATION:KY
CATEGORIES:Church-Wide,Worship Services
ATTACH;FMTTYPE=image/png:https://greatergalilee.com/wp-content/uploads/2025/12/BibleStudy-noon-7pm.png
END:VEVENT
BEGIN:VEVENT
DTSTART;TZID=America/Kentucky/Louisville:20260125T083000
DTEND;TZID=America/Kentucky/Louisville:20260125T093000
DTSTAMP:20260425T104647
CREATED:20260111T212531Z
LAST-MODIFIED:20260111T213448Z
UID:23826-1769329800-1769333400@greatergalilee.com
SUMMARY:Welcome to Service
DESCRIPTION:
URL:https://greatergalilee.com/event/welcome-to-service-3/
LOCATION:Greater Galilee\, 3918 W Broadway\, Louisville\, KY\, 40211\, United States
CATEGORIES:Church-Wide,Worship Services
ATTACH;FMTTYPE=image/jpeg:https://greatergalilee.com/wp-content/uploads/2025/12/church-Worship1.jpg
END:VEVENT
BEGIN:VEVENT
DTSTART;TZID=America/Kentucky/Louisville:20260125T094500
DTEND;TZID=America/Kentucky/Louisville:20260125T103000
DTSTAMP:20260425T104647
CREATED:20260111T212007Z
LAST-MODIFIED:20260111T212023Z
UID:23820-1769334300-1769337000@greatergalilee.com
SUMMARY:Church School
DESCRIPTION:
URL:https://greatergalilee.com/event/church-school-2/
LOCATION:Greater Galilee\, 3918 W Broadway\, Louisville\, KY\, 40211\, United States
CATEGORIES:Church-Wide,Worship Services
ATTACH;FMTTYPE=image/png:https://greatergalilee.com/wp-content/uploads/2025/12/Church-School.png
END:VEVENT
BEGIN:VEVENT
DTSTART;TZID=America/Kentucky/Louisville:20260125T103000
DTEND;TZID=America/Kentucky/Louisville:20260125T113000
DTSTAMP:20260425T104647
CREATED:20260111T212637Z
LAST-MODIFIED:20260111T212637Z
UID:23828-1769337000-1769340600@greatergalilee.com
SUMMARY:Welcome to Service
DESCRIPTION:
URL:https://greatergalilee.com/event/welcome-to-service-4/
LOCATION:KY
CATEGORIES:Church-Wide,Worship Services
ATTACH;FMTTYPE=image/jpeg:https://greatergalilee.com/wp-content/uploads/2025/12/church-Worship1.jpg
END:VEVENT
BEGIN:VEVENT
DTSTART;TZID=America/Kentucky/Louisville:20260127T120000
DTEND;TZID=America/Kentucky/Louisville:20260127T130000
DTSTAMP:20260425T104647
CREATED:20260111T211615Z
LAST-MODIFIED:20260111T213335Z
UID:23814-1769515200-1769518800@greatergalilee.com
SUMMARY:Weekly Prayer Line
DESCRIPTION:Zoom Information: \n720.843.2665 \n209.399.9085 \nPassword:7857390
URL:https://greatergalilee.com/event/weekly-prayer-line-5/
LOCATION:Greater Galilee\, 3918 W Broadway\, Louisville\, KY\, 40211\, United States
CATEGORIES:Church-Wide,Worship Services
ATTACH;FMTTYPE=image/png:https://greatergalilee.com/wp-content/uploads/2025/12/Prayer-Ministry.png
END:VEVENT
BEGIN:VEVENT
DTSTART;TZID=America/Kentucky/Louisville:20260127T190000
DTEND;TZID=America/Kentucky/Louisville:20260127T200000
DTSTAMP:20260425T104647
CREATED:20260111T211725Z
LAST-MODIFIED:20260302T161930Z
UID:23816-1769540400-1769544000@greatergalilee.com
SUMMARY:Weekly Prayer Line
DESCRIPTION:Zoom Information: \n720.843.2665 \n209.399.9085 \nPassword:7857390
URL:https://greatergalilee.com/event/weekly-prayer-line-6/
LOCATION:Greater Galilee\, 3918 W Broadway\, Louisville\, KY\, 40211\, United States
CATEGORIES:Church-Wide,Worship Services
ATTACH;FMTTYPE=image/png:https://greatergalilee.com/wp-content/uploads/2025/12/Prayer-Ministry.png
END:VEVENT
BEGIN:VEVENT
DTSTART;TZID=America/Kentucky/Louisville:20260128T120000
DTEND;TZID=America/Kentucky/Louisville:20260128T130000
DTSTAMP:20260425T104647
CREATED:20260111T212428Z
LAST-MODIFIED:20260111T214548Z
UID:23824-1769601600-1769605200@greatergalilee.com
SUMMARY:Power Lunch in the Word
DESCRIPTION:
URL:https://greatergalilee.com/event/power-lunch-in-the-word-3/
LOCATION:Greater Galilee\, 3918 W Broadway\, Louisville\, KY\, 40211\, United States
CATEGORIES:Church-Wide,Worship Services
ATTACH;FMTTYPE=image/png:https://greatergalilee.com/wp-content/uploads/2025/12/BibleStudy-noon-7pm.png
END:VEVENT
BEGIN:VEVENT
DTSTART;TZID=America/Kentucky/Louisville:20260128T190000
DTEND;TZID=America/Kentucky/Louisville:20260128T200000
DTSTAMP:20260425T104647
CREATED:20260111T213916Z
LAST-MODIFIED:20260111T213916Z
UID:23839-1769626800-1769630400@greatergalilee.com
SUMMARY:Evening Encounter with God
DESCRIPTION:
URL:https://greatergalilee.com/event/evening-encounter-with-god-3/
LOCATION:Greater Galilee\, 3918 W Broadway\, Louisville\, KY\, 40211\, United States
CATEGORIES:Church-Wide,Worship Services
ATTACH;FMTTYPE=image/png:https://greatergalilee.com/wp-content/uploads/2025/12/BibleStudy-noon-7pm.png
END:VEVENT
BEGIN:VEVENT
DTSTART;TZID=America/Kentucky/Louisville:20260401T190000
DTEND;TZID=America/Kentucky/Louisville:20260401T190000
DTSTAMP:20260425T104647
CREATED:20260302T161330Z
LAST-MODIFIED:20260302T161330Z
UID:24078-1775070000-1775070000@greatergalilee.com
SUMMARY:Evening Encounter with God
DESCRIPTION:
URL:https://greatergalilee.com/event/evening-encounter-with-god-9/
LOCATION:Greater Galilee\, 3918 W Broadway\, Louisville\, KY\, 40211\, United States
CATEGORIES:Church-Wide,Worship Services
ATTACH;FMTTYPE=image/png:https://greatergalilee.com/wp-content/uploads/2025/12/BibleStudy-noon-7pm.png
END:VEVENT
BEGIN:VEVENT
DTSTART;TZID=America/Kentucky/Louisville:20260303T120000
DTEND;TZID=America/Kentucky/Louisville:20260303T130000
DTSTAMP:20260425T104647
CREATED:20260302T163022Z
LAST-MODIFIED:20260302T163022Z
UID:24098-1772539200-1772542800@greatergalilee.com
SUMMARY:Weekly Prayer Line
DESCRIPTION:Zoom Information: \n720.843.2665 \n209.399.9085 \nPassword:7857390
URL:https://greatergalilee.com/event/weekly-prayer-line-9/
LOCATION:KY
CATEGORIES:Church-Wide,Worship Services
ATTACH;FMTTYPE=image/png:https://greatergalilee.com/wp-content/uploads/2025/12/Prayer-Ministry.png
END:VEVENT
BEGIN:VEVENT
DTSTART;TZID=America/Kentucky/Louisville:20260303T190000
DTEND;TZID=America/Kentucky/Louisville:20260303T200000
DTSTAMP:20260425T104647
CREATED:20260302T162820Z
LAST-MODIFIED:20260302T162820Z
UID:24096-1772564400-1772568000@greatergalilee.com
SUMMARY:Weekly Prayer Line
DESCRIPTION:Zoom Information: \n720.843.2665 \n209.399.9085 \nPassword:7857390
URL:https://greatergalilee.com/event/weekly-prayer-line-8/
LOCATION:KY
CATEGORIES:Church-Wide,Worship Services
ATTACH;FMTTYPE=image/png:https://greatergalilee.com/wp-content/uploads/2025/12/Prayer-Ministry.png
END:VEVENT
BEGIN:VEVENT
DTSTART;TZID=America/Kentucky/Louisville:20260304T120000
DTEND;TZID=America/Kentucky/Louisville:20260304T130000
DTSTAMP:20260425T104647
CREATED:20260302T161843Z
LAST-MODIFIED:20260302T161843Z
UID:24082-1772625600-1772629200@greatergalilee.com
SUMMARY:Power Lunch in the Word
DESCRIPTION:
URL:https://greatergalilee.com/event/power-lunch-in-the-word-4/
LOCATION:Greater Galilee\, 3918 W Broadway\, Louisville\, KY\, 40211\, United States
CATEGORIES:Church-Wide,Worship Services
ATTACH;FMTTYPE=image/png:https://greatergalilee.com/wp-content/uploads/2025/12/BibleStudy-noon-7pm.png
END:VEVENT
BEGIN:VEVENT
DTSTART;TZID=America/Kentucky/Louisville:20260304T190000
DTEND;TZID=America/Kentucky/Louisville:20260304T200000
DTSTAMP:20260425T104647
CREATED:20260302T160755Z
LAST-MODIFIED:20260302T160755Z
UID:24071-1772650800-1772654400@greatergalilee.com
SUMMARY:Evening Encounter with God
DESCRIPTION:
URL:https://greatergalilee.com/event/evening-encounter-with-god-5/
LOCATION:Greater Galilee\, 3918 W Broadway\, Louisville\, KY\, 40211\, United States
CATEGORIES:Church-Wide,Worship Services
ATTACH;FMTTYPE=image/png:https://greatergalilee.com/wp-content/uploads/2025/12/BibleStudy-noon-7pm.png
END:VEVENT
BEGIN:VEVENT
DTSTART;TZID=America/Kentucky/Louisville:20260308T083000
DTEND;TZID=America/Kentucky/Louisville:20260308T093000
DTSTAMP:20260425T104647
CREATED:20260302T172214Z
LAST-MODIFIED:20260302T172214Z
UID:24118-1772958600-1772962200@greatergalilee.com
SUMMARY:Welcome to Service
DESCRIPTION:
URL:https://greatergalilee.com/event/welcome-to-service-5/
LOCATION:Greater Galilee\, 3918 W Broadway\, Louisville\, KY\, 40211\, United States
CATEGORIES:Church-Wide,Worship Services
ATTACH;FMTTYPE=image/jpeg:https://greatergalilee.com/wp-content/uploads/2025/12/church-Worship1.jpg
END:VEVENT
BEGIN:VEVENT
DTSTART;TZID=America/Kentucky/Louisville:20260308T094500
DTEND;TZID=America/Kentucky/Louisville:20260308T103000
DTSTAMP:20260425T104647
CREATED:20260302T172554Z
LAST-MODIFIED:20260302T172554Z
UID:24122-1772963100-1772965800@greatergalilee.com
SUMMARY:Church School
DESCRIPTION:
URL:https://greatergalilee.com/event/church-school-3/
LOCATION:Greater Galilee\, 3918 W Broadway\, Louisville\, KY\, 40211\, United States
CATEGORIES:Church-Wide,Worship Services
ATTACH;FMTTYPE=image/png:https://greatergalilee.com/wp-content/uploads/2025/12/Church-School.png
END:VEVENT
BEGIN:VEVENT
DTSTART;TZID=America/Kentucky/Louisville:20260308T103000
DTEND;TZID=America/Kentucky/Louisville:20260308T113000
DTSTAMP:20260425T104647
CREATED:20260302T172429Z
LAST-MODIFIED:20260302T172429Z
UID:24120-1772965800-1772969400@greatergalilee.com
SUMMARY:Welcome to Service
DESCRIPTION:
URL:https://greatergalilee.com/event/welcome-to-service-6/
LOCATION:Greater Galilee\, 3918 W Broadway\, Louisville\, KY\, 40211\, United States
CATEGORIES:Church-Wide,Worship Services
ATTACH;FMTTYPE=image/jpeg:https://greatergalilee.com/wp-content/uploads/2025/12/church-Worship1.jpg
END:VEVENT
BEGIN:VEVENT
DTSTART;TZID=America/Kentucky/Louisville:20260310T120000
DTEND;TZID=America/Kentucky/Louisville:20260310T130000
DTSTAMP:20260425T104647
CREATED:20260302T165013Z
LAST-MODIFIED:20260302T165013Z
UID:24108-1773144000-1773147600@greatergalilee.com
SUMMARY:Weekly Prayer Line
DESCRIPTION:Zoom Information: \n720.843.2665 \n209.399.9085 \nPassword:7857390
URL:https://greatergalilee.com/event/weekly-prayer-line-14/
LOCATION:KY
CATEGORIES:Church-Wide,Worship Services
ATTACH;FMTTYPE=image/png:https://greatergalilee.com/wp-content/uploads/2025/12/Prayer-Ministry.png
END:VEVENT
BEGIN:VEVENT
DTSTART;TZID=America/Kentucky/Louisville:20260310T190000
DTEND;TZID=America/Kentucky/Louisville:20260310T200000
DTSTAMP:20260425T104647
CREATED:20260302T163134Z
LAST-MODIFIED:20260302T164912Z
UID:24100-1773169200-1773172800@greatergalilee.com
SUMMARY:Weekly Prayer Line
DESCRIPTION:Zoom Information: \n720.843.2665 \n209.399.9085 \nPassword:7857390
URL:https://greatergalilee.com/event/weekly-prayer-line-10/
LOCATION:KY
CATEGORIES:Church-Wide,Worship Services
ATTACH;FMTTYPE=image/png:https://greatergalilee.com/wp-content/uploads/2025/12/Prayer-Ministry.png
END:VEVENT
BEGIN:VEVENT
DTSTART;TZID=America/Kentucky/Louisville:20260311T120000
DTEND;TZID=America/Kentucky/Louisville:20260311T130000
DTSTAMP:20260425T104647
CREATED:20260302T162043Z
LAST-MODIFIED:20260302T162043Z
UID:24081-1773230400-1773234000@greatergalilee.com
SUMMARY:Power Lunch in the Word
DESCRIPTION:
URL:https://greatergalilee.com/event/power-lunch-in-the-word-5/
LOCATION:Greater Galilee\, 3918 W Broadway\, Louisville\, KY\, 40211\, United States
CATEGORIES:Church-Wide,Worship Services
ATTACH;FMTTYPE=image/png:https://greatergalilee.com/wp-content/uploads/2025/12/BibleStudy-noon-7pm.png
END:VEVENT
BEGIN:VEVENT
DTSTART;TZID=America/Kentucky/Louisville:20260311T190000
DTEND;TZID=America/Kentucky/Louisville:20260311T200000
DTSTAMP:20260425T104647
CREATED:20260302T160838Z
LAST-MODIFIED:20260302T160838Z
UID:24070-1773255600-1773259200@greatergalilee.com
SUMMARY:Evening Encounter with God
DESCRIPTION:
URL:https://greatergalilee.com/event/evening-encounter-with-god-6/
LOCATION:Greater Galilee\, 3918 W Broadway\, Louisville\, KY\, 40211\, United States
CATEGORIES:Church-Wide,Worship Services
ATTACH;FMTTYPE=image/png:https://greatergalilee.com/wp-content/uploads/2025/12/BibleStudy-noon-7pm.png
END:VEVENT
BEGIN:VEVENT
DTSTART;TZID=America/Kentucky/Louisville:20260315T083000
DTEND;TZID=America/Kentucky/Louisville:20260315T093000
DTSTAMP:20260425T104647
CREATED:20260302T175706Z
LAST-MODIFIED:20260302T175706Z
UID:24132-1773563400-1773567000@greatergalilee.com
SUMMARY:Welcome to Service
DESCRIPTION:
URL:https://greatergalilee.com/event/welcome-to-service-8/
LOCATION:Greater Galilee\, 3918 W Broadway\, Louisville\, KY\, 40211\, United States
CATEGORIES:Church-Wide,Worship Services
ATTACH;FMTTYPE=image/jpeg:https://greatergalilee.com/wp-content/uploads/2025/12/church-Worship1.jpg
END:VEVENT
END:VCALENDAR