BEGIN:VCALENDAR
VERSION:2.0
PRODID:-//Greater Galilee - ECPv6.15.20//NONSGML v1.0//EN
CALSCALE:GREGORIAN
METHOD:PUBLISH
X-ORIGINAL-URL:https://greatergalilee.com
X-WR-CALDESC:Events for Greater Galilee
REFRESH-INTERVAL;VALUE=DURATION:PT1H
X-Robots-Tag:noindex
X-PUBLISHED-TTL:PT1H
BEGIN:VTIMEZONE
TZID:America/Kentucky/Louisville
BEGIN:DAYLIGHT
TZOFFSETFROM:-0500
TZOFFSETTO:-0400
TZNAME:EDT
DTSTART:20250309T070000
END:DAYLIGHT
BEGIN:STANDARD
TZOFFSETFROM:-0400
TZOFFSETTO:-0500
TZNAME:EST
DTSTART:20251102T060000
END:STANDARD
BEGIN:DAYLIGHT
TZOFFSETFROM:-0500
TZOFFSETTO:-0400
TZNAME:EDT
DTSTART:20260308T070000
END:DAYLIGHT
BEGIN:STANDARD
TZOFFSETFROM:-0400
TZOFFSETTO:-0500
TZNAME:EST
DTSTART:20261101T060000
END:STANDARD
BEGIN:DAYLIGHT
TZOFFSETFROM:-0500
TZOFFSETTO:-0400
TZNAME:EDT
DTSTART:20270314T070000
END:DAYLIGHT
BEGIN:STANDARD
TZOFFSETFROM:-0400
TZOFFSETTO:-0500
TZNAME:EST
DTSTART:20271107T060000
END:STANDARD
END:VTIMEZONE
BEGIN:VEVENT
DTSTART;TZID=America/Kentucky/Louisville:20260322T083000
DTEND;TZID=America/Kentucky/Louisville:20260322T093000
DTSTAMP:20260424T035219
CREATED:20260302T175822Z
LAST-MODIFIED:20260302T175822Z
UID:24134-1774168200-1774171800@greatergalilee.com
SUMMARY:Welcome to Service
DESCRIPTION:
URL:https://greatergalilee.com/event/welcome-to-service-9/
LOCATION:Greater Galilee\, 3918 W Broadway\, Louisville\, KY\, 40211\, United States
CATEGORIES:Church-Wide,Worship Services
ATTACH;FMTTYPE=image/jpeg:https://greatergalilee.com/wp-content/uploads/2025/12/church-Worship1.jpg
END:VEVENT
BEGIN:VEVENT
DTSTART;TZID=America/Kentucky/Louisville:20260322T094500
DTEND;TZID=America/Kentucky/Louisville:20260322T103000
DTSTAMP:20260424T035219
CREATED:20260302T173027Z
LAST-MODIFIED:20260302T173027Z
UID:24126-1774172700-1774175400@greatergalilee.com
SUMMARY:Church School
DESCRIPTION:
URL:https://greatergalilee.com/event/church-school-5/
LOCATION:Greater Galilee\, 3918 W Broadway\, Louisville\, KY\, 40211\, United States
CATEGORIES:Church-Wide,Worship Services
ATTACH;FMTTYPE=image/png:https://greatergalilee.com/wp-content/uploads/2025/12/Church-School.png
END:VEVENT
BEGIN:VEVENT
DTSTART;TZID=America/Kentucky/Louisville:20260322T103000
DTEND;TZID=America/Kentucky/Louisville:20260322T113000
DTSTAMP:20260424T035219
CREATED:20260302T180013Z
LAST-MODIFIED:20260302T180013Z
UID:24136-1774175400-1774179000@greatergalilee.com
SUMMARY:Welcome to Service
DESCRIPTION:
URL:https://greatergalilee.com/event/welcome-to-service-10/
LOCATION:Greater Galilee\, 3918 W Broadway\, Louisville\, KY\, 40211\, United States
CATEGORIES:Church-Wide,Worship Services
ATTACH;FMTTYPE=image/jpeg:https://greatergalilee.com/wp-content/uploads/2025/12/church-Worship1.jpg
END:VEVENT
END:VCALENDAR