BEGIN:VCALENDAR
VERSION:2.0
PRODID:-//Greater Galilee - ECPv6.15.20//NONSGML v1.0//EN
CALSCALE:GREGORIAN
METHOD:PUBLISH
X-WR-CALNAME:Greater Galilee
X-ORIGINAL-URL:https://greatergalilee.com
X-WR-CALDESC:Events for Greater Galilee
REFRESH-INTERVAL;VALUE=DURATION:PT1H
X-Robots-Tag:noindex
X-PUBLISHED-TTL:PT1H
BEGIN:VTIMEZONE
TZID:America/Kentucky/Louisville
BEGIN:DAYLIGHT
TZOFFSETFROM:-0500
TZOFFSETTO:-0400
TZNAME:EDT
DTSTART:20250309T070000
END:DAYLIGHT
BEGIN:STANDARD
TZOFFSETFROM:-0400
TZOFFSETTO:-0500
TZNAME:EST
DTSTART:20251102T060000
END:STANDARD
BEGIN:DAYLIGHT
TZOFFSETFROM:-0500
TZOFFSETTO:-0400
TZNAME:EDT
DTSTART:20260308T070000
END:DAYLIGHT
BEGIN:STANDARD
TZOFFSETFROM:-0400
TZOFFSETTO:-0500
TZNAME:EST
DTSTART:20261101T060000
END:STANDARD
BEGIN:DAYLIGHT
TZOFFSETFROM:-0500
TZOFFSETTO:-0400
TZNAME:EDT
DTSTART:20270314T070000
END:DAYLIGHT
BEGIN:STANDARD
TZOFFSETFROM:-0400
TZOFFSETTO:-0500
TZNAME:EST
DTSTART:20271107T060000
END:STANDARD
END:VTIMEZONE
BEGIN:VEVENT
DTSTART;TZID=America/Kentucky/Louisville:20260329T083000
DTEND;TZID=America/Kentucky/Louisville:20260329T093000
DTSTAMP:20260423T231553
CREATED:20260302T180254Z
LAST-MODIFIED:20260302T180254Z
UID:24140-1774773000-1774776600@greatergalilee.com
SUMMARY:Welcome to Service
DESCRIPTION:
URL:https://greatergalilee.com/event/welcome-to-service-12/
LOCATION:Greater Galilee\, 3918 W Broadway\, Louisville\, KY\, 40211\, United States
CATEGORIES:Church-Wide,Worship Services
ATTACH;FMTTYPE=image/jpeg:https://greatergalilee.com/wp-content/uploads/2025/12/church-Worship1.jpg
END:VEVENT
BEGIN:VEVENT
DTSTART;TZID=America/Kentucky/Louisville:20260329T094500
DTEND;TZID=America/Kentucky/Louisville:20260329T103000
DTSTAMP:20260423T231553
CREATED:20260302T173135Z
LAST-MODIFIED:20260302T173135Z
UID:24128-1774777500-1774780200@greatergalilee.com
SUMMARY:Church School
DESCRIPTION:
URL:https://greatergalilee.com/event/church-school-6/
LOCATION:Greater Galilee\, 3918 W Broadway\, Louisville\, KY\, 40211\, United States
CATEGORIES:Church-Wide,Worship Services
ATTACH;FMTTYPE=image/png:https://greatergalilee.com/wp-content/uploads/2025/12/Church-School.png
END:VEVENT
BEGIN:VEVENT
DTSTART;TZID=America/Kentucky/Louisville:20260329T103000
DTEND;TZID=America/Kentucky/Louisville:20260329T113000
DTSTAMP:20260423T231553
CREATED:20260302T180138Z
LAST-MODIFIED:20260302T180138Z
UID:24138-1774780200-1774783800@greatergalilee.com
SUMMARY:Welcome to Service
DESCRIPTION:
URL:https://greatergalilee.com/event/welcome-to-service-11/
LOCATION:Greater Galilee\, 3918 W Broadway\, Louisville\, KY\, 40211\, United States
CATEGORIES:Church-Wide,Worship Services
ATTACH;FMTTYPE=image/jpeg:https://greatergalilee.com/wp-content/uploads/2025/12/church-Worship1.jpg
END:VEVENT
END:VCALENDAR