BEGIN:VCALENDAR
VERSION:2.0
PRODID:-//Greater Galilee - ECPv6.15.20//NONSGML v1.0//EN
CALSCALE:GREGORIAN
METHOD:PUBLISH
X-WR-CALNAME:Greater Galilee
X-ORIGINAL-URL:https://greatergalilee.com
X-WR-CALDESC:Events for Greater Galilee
REFRESH-INTERVAL;VALUE=DURATION:PT1H
X-Robots-Tag:noindex
X-PUBLISHED-TTL:PT1H
BEGIN:VTIMEZONE
TZID:UTC
BEGIN:STANDARD
TZOFFSETFROM:+0000
TZOFFSETTO:+0000
TZNAME:UTC
DTSTART:20220101T000000
END:STANDARD
END:VTIMEZONE
BEGIN:VEVENT
DTSTART;TZID=UTC:20231210T083000
DTEND;TZID=UTC:20231224T100000
DTSTAMP:20260423T214411
CREATED:20200428T172425Z
LAST-MODIFIED:20251208T233027Z
UID:1194-1702197000-1703412000@greatergalilee.com
SUMMARY:Worship Service
DESCRIPTION:
URL:https://greatergalilee.com/event/st-georges-day/
LOCATION:KY
CATEGORIES:Worship Services,Youth Events
ATTACH;FMTTYPE=image/jpeg:https://greatergalilee.com/wp-content/uploads/2025/12/ggslide1.jpg
ORGANIZER;CN="Eric Johnson":MAILTO:info@example.com
END:VEVENT
END:VCALENDAR